BEGIN:VCALENDAR
VERSION:2.0
PRODID:-//Laboratory for Surface Modification - ECPv6.7.0//NONSGML v1.0//EN
CALSCALE:GREGORIAN
METHOD:PUBLISH
X-WR-CALNAME:Laboratory for Surface Modification
X-ORIGINAL-URL:https://lsm.rutgers.edu
X-WR-CALDESC:Events for Laboratory for Surface Modification
REFRESH-INTERVAL;VALUE=DURATION:PT1H
X-Robots-Tag:noindex
X-PUBLISHED-TTL:PT1H
BEGIN:VTIMEZONE
TZID:UTC
BEGIN:STANDARD
TZOFFSETFROM:+0000
TZOFFSETTO:+0000
TZNAME:UTC
DTSTART:20240101T000000
END:STANDARD
END:VTIMEZONE
BEGIN:VEVENT
DTSTART;TZID=UTC:20240327T130000
DTEND;TZID=UTC:20240327T140000
DTSTAMP:20260420T025825
CREATED:20240312T190233Z
LAST-MODIFIED:20240312T190233Z
UID:687-1711544400-1711548000@lsm.rutgers.edu
SUMMARY:Helium Ion Microscopy Workshop
DESCRIPTION:The Zeiss Orion Plus Helium Ion Microscope combines the advantages of the best secondary electron imaging setups\, even on insulating samples\, with nanometer-scale pattering and sample modification. Learn about this powerful technique available at the LSM facilities and its numerous applications. \n  \nPart 1: An introduction to Helium Ion Microscopy (~30 min) – Sylvie Rangan \nPart 2: Practical Applications from Biology to Material Science (~30min) – Leila Kasaei \nPart 3: Demo in NPL (~30min)  (limited to 10 on-site participants) \nJoin Zoom Meeting at: https://rutgers.zoom.us/j/94435281331?pwd=cXRXeWhySFJOb3ZnZGFnSFdRQkR2QT09
URL:https://lsm.rutgers.edu/event/helium-ion-microscopy-workshop/
LOCATION:Department of Physics and Astronomy Room 330\, 136 Frelinghuysen Rd\, Piscataway\, NJ\, 08854\, United States
CATEGORIES:Workshop
ATTACH;FMTTYPE=image/png:https://sites.rutgers.edu/surface-modification/wp-content/uploads/sites/1136/2024/03/HIM_Tinny.png
END:VEVENT
END:VCALENDAR